BEGIN:VCALENDAR
VERSION:2.0
PRODID:-//wp-events-plugin.com//7.2.3.1//EN
TZID:Europe/Berlin
X-WR-TIMEZONE:Europe/Berlin
BEGIN:VEVENT
UID:218@offside-wedding.de
DTSTART;TZID=Europe/Berlin:20260411T203000
DTEND;TZID=Europe/Berlin:20260411T221500
DTSTAMP:20260325T163655Z
URL:https://offside-wedding.de/events/whisky-tasting-bachelor/
SUMMARY:Whisky Tasting Bachelor
DESCRIPTION:Dieses Tasting ist für Anfängerinnen und Anfänger gedacht.
ATTACH;FMTTYPE=image/jpeg:https://offside-wedding.de/wp-content/uploads/20
 25/06/7995676a-4aa6-458a-b12b-286b3e46b8a2.jpg
CATEGORIES:Bachelor,Whisky-Tastings
LOCATION:Offside Wedding - Pub & Whisky Bar\, Jülicher Str. 4\, Berlin\, B
 erlin\, 13357\, Berlin\, Deutschland
X-APPLE-STRUCTURED-LOCATION;VALUE=URI;X-ADDRESS=Jülicher Str. 4\, Berlin\,
  Berlin\, 13357\, Berlin\, Deutschland;X-APPLE-RADIUS=100;X-TITLE=Offside 
 Wedding - Pub & Whisky Bar:geo:0,0
END:VEVENT
BEGIN:VTIMEZONE
TZID:Europe/Berlin
X-LIC-LOCATION:Europe/Berlin
BEGIN:DAYLIGHT
DTSTART:20260329T030000
TZOFFSETFROM:+0100
TZOFFSETTO:+0200
TZNAME:CEST
END:DAYLIGHT
END:VTIMEZONE
END:VCALENDAR